BEGIN:VCALENDAR
VERSION:2.0
PRODID:-//ENSPIRE Magazine - ECPv6.15.20//NONSGML v1.0//EN
CALSCALE:GREGORIAN
METHOD:PUBLISH
X-ORIGINAL-URL:https://enspiremag.com
X-WR-CALDESC:Events for ENSPIRE Magazine
REFRESH-INTERVAL;VALUE=DURATION:PT1H
X-Robots-Tag:noindex
X-PUBLISHED-TTL:PT1H
BEGIN:VTIMEZONE
TZID:America/New_York
BEGIN:DAYLIGHT
TZOFFSETFROM:-0500
TZOFFSETTO:-0400
TZNAME:EDT
DTSTART:20240310T070000
END:DAYLIGHT
BEGIN:STANDARD
TZOFFSETFROM:-0400
TZOFFSETTO:-0500
TZNAME:EST
DTSTART:20241103T060000
END:STANDARD
BEGIN:DAYLIGHT
TZOFFSETFROM:-0500
TZOFFSETTO:-0400
TZNAME:EDT
DTSTART:20250309T070000
END:DAYLIGHT
BEGIN:STANDARD
TZOFFSETFROM:-0400
TZOFFSETTO:-0500
TZNAME:EST
DTSTART:20251102T060000
END:STANDARD
BEGIN:DAYLIGHT
TZOFFSETFROM:-0500
TZOFFSETTO:-0400
TZNAME:EDT
DTSTART:20260308T070000
END:DAYLIGHT
BEGIN:STANDARD
TZOFFSETFROM:-0400
TZOFFSETTO:-0500
TZNAME:EST
DTSTART:20261101T060000
END:STANDARD
END:VTIMEZONE
BEGIN:VEVENT
DTSTART;TZID=America/New_York:20250314T100000
DTEND;TZID=America/New_York:20250323T180000
DTSTAMP:20260421T193854
CREATED:20250303T204631Z
LAST-MODIFIED:20250303T204631Z
UID:61827-1741946400-1742752800@enspiremag.com
SUMMARY:Not-a-Normal Market: Spring 2025 NYC
DESCRIPTION:Normal New York is back with Not-a-Normal Market Spring 2025 show. Join us for a two-weekend shopping & community event that redefines the retail experience. Featuring 120 carefully curated vendors each weekend\, NANM brings together indepenent designers\, artists\, creators\, and curators offering furniture\, art\, home decor\, apparel\, jewelry and accessories. With a focus on vintage designer\, quality second-hand\, locally designed / produced\, upcycled / reworked\, and handmade. \nCome shop three floors and over 30\,000 square feet at the iconic old former Barneys flagship in Chelsea. For the full vendor list\, please visit our website. Follow us on Instagram to stay up to date on more exciting details and sneak peeks leading up to the market! \nTICKET INFORMATION \nEarly Bird Pricing: $16 (ends February 28th) \nRegular Pricing: $20 \n*Children under 12 get in free \nPlease read FAQ section for detailed information on policies.
URL:https://enspiremag.com/event/not-a-normal-market-spring-2025-nyc/
LOCATION:101 7th Avenue\, 101 7th Avenue\, New York\, 10011\, United States
ATTACH;FMTTYPE=image/avif:https://enspiremag.com/wp-content/uploads/2025/03/https___cdn.evbuc_.com_images_961174333_1662490526923_1_original.avif
END:VEVENT
BEGIN:VEVENT
DTSTART;TZID=America/New_York:20250315T110000
DTEND;TZID=America/New_York:20250315T170000
DTSTAMP:20260421T193854
CREATED:20250304T204116Z
LAST-MODIFIED:20250304T204116Z
UID:61911-1742036400-1742058000@enspiremag.com
SUMMARY:NYC Affordable Housing Resource Fair by Believe New York @ SNFL
DESCRIPTION:Join Believe New York at the Stavros Niarchos Foundation Library for a one of a kind Affordable Housing Resource Fair! This tabling event will feature 20+ NYC-based service-providers\, including representatives from the Mayor’s Office and services informed about NYC Human Resources Administration (HRA)\, NYC Housing Connect\, Housing Court\, and other affordable housing related programs. See details and confirmed vendors below! \nWhat to expect: \n\nResource Tables: Explore housing support services and gather helpful information from trusted organizations in the NYC affordable housing space and other helpful resources to improve your well being. This includes representatives who can help you obtain domestic violence support\, mental health treatment\, care for medical concerns\, health insurance and SSI/disability insurance\, and more!\nExpert Advice: Speak directly with representatives to get your questions answered and receive personalized guidance.\nSupport for Housing Needs: Learn about available affordable housing programs\, eligibility requirements\, and application processes.\nThis free event is open to all NYC residents seeking assistance or information about affordable housing and health opportunities.\n\nConfirmed Vendors: \n\nNYC Housing Connect/Housing Preservation & Development\nDepartment of Social Services/Human Resource Administration (HRA)\nHenry Street Settlement\nNYC Housing Partnership\nMayor’s Public Engagement Unit\nSupportive Housing Organized & United Tenanets (SHOUT NYC)\nCenter for Indepence of the Disabled (CIDNY)\nNY Peace Institute\nHELP USA\nCenter for NYC Neighborhoods\nMayor’s Office to End Domestic and Gender-Based Violence\nSanctuary for Families\nHarlem United\nMindset Care\nNAMI-NYC\nRyan Health\nGood Old Lower East Side (GOLES)\nHELP ROADS\nThe Bridge\nFunctional Family Therapy\nVibrant Emotional Health\nThe Legal Aid Society\nHost: Believe New York\n\nDon’t miss the chance to connect with experts who can support your housing journey! All questions can be directed to resources@believeny.org
URL:https://enspiremag.com/event/nyc-affordable-housing-resource-fair-by-believe-new-york-snfl/
LOCATION:455 5th Ave    455 5th Avenue New York\, NY 10016\, 455 5th Ave 455 5th Avenue\, New York\, NY\, 10016\, United States
END:VEVENT
END:VCALENDAR