BEGIN:VCALENDAR
VERSION:2.0
PRODID:-//ENSPIRE Magazine - ECPv6.15.20//NONSGML v1.0//EN
CALSCALE:GREGORIAN
METHOD:PUBLISH
X-ORIGINAL-URL:https://enspiremag.com
X-WR-CALDESC:Events for ENSPIRE Magazine
REFRESH-INTERVAL;VALUE=DURATION:PT1H
X-Robots-Tag:noindex
X-PUBLISHED-TTL:PT1H
BEGIN:VTIMEZONE
TZID:America/New_York
BEGIN:DAYLIGHT
TZOFFSETFROM:-0500
TZOFFSETTO:-0400
TZNAME:EDT
DTSTART:20240310T070000
END:DAYLIGHT
BEGIN:STANDARD
TZOFFSETFROM:-0400
TZOFFSETTO:-0500
TZNAME:EST
DTSTART:20241103T060000
END:STANDARD
BEGIN:DAYLIGHT
TZOFFSETFROM:-0500
TZOFFSETTO:-0400
TZNAME:EDT
DTSTART:20250309T070000
END:DAYLIGHT
BEGIN:STANDARD
TZOFFSETFROM:-0400
TZOFFSETTO:-0500
TZNAME:EST
DTSTART:20251102T060000
END:STANDARD
BEGIN:DAYLIGHT
TZOFFSETFROM:-0500
TZOFFSETTO:-0400
TZNAME:EDT
DTSTART:20260308T070000
END:DAYLIGHT
BEGIN:STANDARD
TZOFFSETFROM:-0400
TZOFFSETTO:-0500
TZNAME:EST
DTSTART:20261101T060000
END:STANDARD
END:VTIMEZONE
BEGIN:VEVENT
DTSTART;TZID=America/New_York:20250402T080000
DTEND;TZID=America/New_York:20250402T170000
DTSTAMP:20260421T224317
CREATED:20250402T164906Z
LAST-MODIFIED:20250402T164906Z
UID:62538-1743580800-1743613200@enspiremag.com
SUMMARY:Gypsy Tickets | Majestic Theatre\, NY | Time Out
DESCRIPTION:Date:  open through August 2025\nTime: Select times and dates available \nLocation: Majestic Theatre in new York \nTicket Info:  prices vary depending on seating and the days you purchase. \n\nLandmark broadway musical about a domineering mother who will do anything “ to make her young daughters Vaudeville stars.” The story is inspired by the “early life of stripper Gypsy Rose Lee. ” \n\n Infrared@SoundAssociates.com or 212.582.7678
URL:https://enspiremag.com/event/gypsy-tickets-majestic-theatre-ny-time-out/
LOCATION:NJ
ATTACH;FMTTYPE=image/jpeg:https://enspiremag.com/wp-content/uploads/2025/04/129155-3.jpg
END:VEVENT
BEGIN:VEVENT
DTSTART;TZID=America/New_York:20250402T080000
DTEND;TZID=America/New_York:20250402T170000
DTSTAMP:20260421T224317
CREATED:20250402T165443Z
LAST-MODIFIED:20250402T170404Z
UID:62541-1743580800-1743613200@enspiremag.com
SUMMARY:5 things to expect at the new Second City comedy club in Brooklyn
DESCRIPTION:Date: March 21st and other dates available \nTime: 7:00 PM\nLocation: Second City New York Mainstage; 64 N 9th Street\, Brooklyn\, NY\, 11249\nTicket Info: tickets range from $29.00 value tickets to $39 general admin\, and $59 premium. \nEvent Description:\n\nShow: Swipes Right: The Second City New York’s Incomplete Guide to Dating Comedy Show. The show roasts everything that “turns us on – and off – about love\, dating\, and relationships.”
URL:https://enspiremag.com/event/lektrik-art-a-festival-of-lights-new-york-fever/
LOCATION:NJ
END:VEVENT
BEGIN:VEVENT
DTSTART;TZID=America/New_York:20250402T080000
DTEND;TZID=America/New_York:20250402T170000
DTSTAMP:20260421T224317
CREATED:20250402T170756Z
LAST-MODIFIED:20250402T170901Z
UID:62547-1743580800-1743613200@enspiremag.com
SUMMARY:A Joan Didion archive is debuting at the New York Public Library next month
DESCRIPTION:Date: Opens March 26th\nTime: During Business hours: Sunday (closed); Monday\, Thursday\, Friday\, Saturday 10am to 6pm; Tuesday and Wednesday 10 am to 8pm. \nLocation: Stephen A. Schwarzman Building on Fifth Avenue \nTicket Info: Available to anyone with a library card (which are free!) at the Stephen A. Schwarzman Building on Fifth Avenue \nEvent Description:\n\n336 boxes of the late Joan Didion and John Gregory Dunne will be made publicly available. \nContact: manuscripts@nypl.org
URL:https://enspiremag.com/event/a-joan-didion-archive-is-debuting-at-the-new-york-public-library-next-month/
LOCATION:NJ
END:VEVENT
BEGIN:VEVENT
DTSTART;TZID=America/New_York:20250402T100000
DTEND;TZID=America/New_York:20250427T180000
DTSTAMP:20260421T224317
CREATED:20250402T162012Z
LAST-MODIFIED:20250402T162012Z
UID:62534-1743588000-1745776800@enspiremag.com
SUMMARY:The Orchid Show: Mexican Modernism | New York Botanical Garden
DESCRIPTION:Date: February 15th through April 27th\nTime: 10 a.m.–6 p.m.\, Tuesday to Sunday\, and select Monday holidays.\nLocation: Enid A. Haupt Conservatory\nTicket Info: Adults $39; Seniors (65+) $35; students (with valid ID) $35; children (2-12) $17; children under 2 $0\nEvent Description: \n\nTradition and artistry combine to display beautiful orchids. Have the chance to wander through vivid lush landscapes of thousands of flowers inspired by the bold designs of Luis Barragán\, a Mexican architect. \n\n\nOrganizer Details:\n\nName: NYBG Modernism \nContact: 718.817.8716\, 10 a.m.–6 p.m.
URL:https://enspiremag.com/event/the-orchid-show-mexican-modernism-new-york-botanical-garden/
LOCATION:NJ
ATTACH;FMTTYPE=image/jpeg:https://enspiremag.com/wp-content/uploads/2025/04/MCO-M10R1771-3.1-1920x640-1.jpg
END:VEVENT
END:VCALENDAR