BEGIN:VCALENDAR
VERSION:2.0
PRODID:-//ENSPIRE Magazine - ECPv6.15.20//NONSGML v1.0//EN
CALSCALE:GREGORIAN
METHOD:PUBLISH
X-WR-CALNAME:ENSPIRE Magazine
X-ORIGINAL-URL:https://enspiremag.com
X-WR-CALDESC:Events for ENSPIRE Magazine
REFRESH-INTERVAL;VALUE=DURATION:PT1H
X-Robots-Tag:noindex
X-PUBLISHED-TTL:PT1H
BEGIN:VTIMEZONE
TZID:America/New_York
BEGIN:DAYLIGHT
TZOFFSETFROM:-0500
TZOFFSETTO:-0400
TZNAME:EDT
DTSTART:20240310T070000
END:DAYLIGHT
BEGIN:STANDARD
TZOFFSETFROM:-0400
TZOFFSETTO:-0500
TZNAME:EST
DTSTART:20241103T060000
END:STANDARD
BEGIN:DAYLIGHT
TZOFFSETFROM:-0500
TZOFFSETTO:-0400
TZNAME:EDT
DTSTART:20250309T070000
END:DAYLIGHT
BEGIN:STANDARD
TZOFFSETFROM:-0400
TZOFFSETTO:-0500
TZNAME:EST
DTSTART:20251102T060000
END:STANDARD
BEGIN:DAYLIGHT
TZOFFSETFROM:-0500
TZOFFSETTO:-0400
TZNAME:EDT
DTSTART:20260308T070000
END:DAYLIGHT
BEGIN:STANDARD
TZOFFSETFROM:-0400
TZOFFSETTO:-0500
TZNAME:EST
DTSTART:20261101T060000
END:STANDARD
END:VTIMEZONE
BEGIN:VEVENT
DTSTART;VALUE=DATE:20250523
DTEND;VALUE=DATE:20251027
DTSTAMP:20260421T145401
CREATED:20250523T163120Z
LAST-MODIFIED:20250523T163120Z
UID:63364-1747958400-1761523199@enspiremag.com
SUMMARY:Superfine: Tailoring Black Style Exhibit
DESCRIPTION:The Costume Institute’s spring 2025 exhibition presents a cultural and historical examination of Black style over three hundred years through the concept of dandyism. In the 18th-century Atlantic world\, a new culture of consumption\, fueled by the slave trade\, colonialism\, and imperialism\, enabled access to clothing and goods that indicated wealth\, distinction\, and taste. Black dandyism sprung from the intersection of African and European style traditions. \nSuperfine: Tailoring Black Style explores the importance of style to the formation of Black identities in the Atlantic diaspora\, particularly in the United States and Europe. Through a presentation of garments and accessories\, paintings\, photographs\, decorative arts\, and more\, from the 18th century to today\, the exhibition interprets the concept of dandyism as both an aesthetic and a strategy that allowed for new social and political possibilities. Superfine is organized into 12 sections\, each representing a characteristic that defines the style\, such as Champion\, Respectability\, Heritage\, Beauty\, and Cosmopolitanism. Together\, these characteristics demonstrate how one’s self-presentation is a mode of distinction and resistance—within a society impacted by race\, gender\, class\, and sexuality. \n#SuperfineStyle \nThe exhibition is made possible by \n\n\n\nMajor funding is provided by Instagram\, the Hobson/Lucas Family Foundation\, Africa Fashion International\, founded by Dr. Precious Moloi-Motsepe\, and The Perry Foundation. \n\n\n\nThe Met Fifth Avenue\n\n\n1000 Fifth Avenue\nNew York\, NY 10028\nPhone: 212-535-7710\n\n\n\n\n\n\nThe Met Cloisters\n\n\n99 Margaret Corbin Drive\nFort Tryon Park\nNew York\, NY 10040\nPhone: 212-923-3700\n\n\n\n\n\n 
URL:https://enspiremag.com/event/superfine-tailoring-black-style-exhibit/
LOCATION:NJ
END:VEVENT
BEGIN:VEVENT
DTSTART;VALUE=DATE:20250627
DTEND;VALUE=DATE:20250628
DTSTAMP:20260421T145401
CREATED:20250523T143518Z
LAST-MODIFIED:20250523T143518Z
UID:63357-1750982400-1751068799@enspiremag.com
SUMMARY:The Official NYC Pride Party
DESCRIPTION:HERITAGE is where your 2025 NYC Pride Weekend begins—with world-class house music and a deep sense of purpose. As the Official NYC Pride Party\, this event is more than a kick-off party—it’s a tribute to the queer pioneers who fought for our right to love and be loud (and fabulous). \nSet inside Brooklyn’s iconic Duggal Greenhouse\, HERITAGE brings together a powerful lineup of local and international house\, melodic\, and progressive artists—Giolì & Assia\, Chris Luno\, Dim Kelly\, Kim Anh—for a night full of magic and joy for our LGBTQIA+ community and allies. \nWe dance not just for ourselves\, but in honor of those who paved the way. HERITAGE is a gathering of generations\, identities\, and chosen families—a space where self-expression is sacred and community is everything. \nCome for the music. Stay for the vibe. Leave part of something bigger. \nPart of the proceeds will be donated to the NYC Pride Association\, Heritage of Pride. \nPurchase tickets here: https://www.sickening.events/e/heritage-nycpride/tickets?utm_source=affiliate&utm_name=NYC-Pride-IG&utm_campaign=NYC-Pride-IG&utm_id=67e44cdef6f041489d1300430a1e61ae
URL:https://enspiremag.com/event/the-official-nyc-pride-party/
LOCATION:NJ
END:VEVENT
BEGIN:VEVENT
DTSTART;VALUE=DATE:20250627
DTEND;VALUE=DATE:20250629
DTSTAMP:20260421T145401
CREATED:20250523T152046Z
LAST-MODIFIED:20250523T152046Z
UID:63361-1750982400-1751155199@enspiremag.com
SUMMARY:Ladyland Festival
DESCRIPTION:This event takes place at Under the K Bridge in Brooklyn\, NY. \n\n\nDoors open at 7PM EST. \n\n\nThis event is 21+ with valid ID required upon entry. \n\n\n\n\n\n\n\n\n\n\n\n\n\n\n\n\n\n\n\n\n\n\n\n\n\n\n\n\n\n\n\n\nGETTING HERE\nEntrance is at 19 Bridgewater St\, Brooklyn\, NY 11222. Directions for GA and VIP ticket holders will be located at the intersection of Stewart Ave and Meeker Ave. \nThe best way to get to Under the K Bridge is via public transit on MTA: \n\n\nSubway (G Train to Nassau Ave or L Train to Graham Ave) or MTA Bus on the B24 Line to Cherry St/Vandervoort Av Stop. Subject to schedule changes by MTA\, so please refer to the MTA website on the day of show. \n\n\nRideshare drop off and pick up is also located at 19 Bridgewater St\, Brooklyn\, NY 11222. \n\n\nThere is no parking at the venue or on the residential streets near the venue. For your own convenience\, please do not plan to drive and park. \n\n\n\n\n\n\n\n\n\n\n\n\n\n\n\n\n\n\nProhibited items\n\n\nCoolers \n\n\nBlankets \n\n\nChairs \n\n\nAttachable Seat Backs \n\n\nUmbrellas \n\n\nStrollers \n\n\nOutside Food or Beverage \n\n\nWeapons \n\n\nLaser Pointers \n\n\nGlow Sticks \n\n\nVideo or Audio Recording Equipment \n\n\nProfessional Cameras \n\n\nPets \n\n\nIncendiary devices \n\n\nCamelbacks \n\n\nLarge backpacks or bags – maximum allowable bag size is 16″ x 16″ x 8″ \n\n\nDrones \n\n\nSpray Paint\, Markers\, Sharpies\, and Paint Pens \n\n\nGlass Containers of any kind \n\n\nFrisbees \nNote: Laptops and iPads are permitted into the venue but must be stored in a bag while on site.
URL:https://enspiremag.com/event/ladyland-festival/
LOCATION:NJ
ATTACH;FMTTYPE=image/png:https://enspiremag.com/wp-content/uploads/2025/05/ladylandlogo.png
END:VEVENT
END:VCALENDAR