BEGIN:VCALENDAR
VERSION:2.0
PRODID:-//ENSPIRE Magazine - ECPv6.15.20//NONSGML v1.0//EN
CALSCALE:GREGORIAN
METHOD:PUBLISH
X-WR-CALNAME:ENSPIRE Magazine
X-ORIGINAL-URL:https://enspiremag.com
X-WR-CALDESC:Events for ENSPIRE Magazine
REFRESH-INTERVAL;VALUE=DURATION:PT1H
X-Robots-Tag:noindex
X-PUBLISHED-TTL:PT1H
BEGIN:VTIMEZONE
TZID:America/New_York
BEGIN:DAYLIGHT
TZOFFSETFROM:-0500
TZOFFSETTO:-0400
TZNAME:EDT
DTSTART:20240310T070000
END:DAYLIGHT
BEGIN:STANDARD
TZOFFSETFROM:-0400
TZOFFSETTO:-0500
TZNAME:EST
DTSTART:20241103T060000
END:STANDARD
BEGIN:DAYLIGHT
TZOFFSETFROM:-0500
TZOFFSETTO:-0400
TZNAME:EDT
DTSTART:20250309T070000
END:DAYLIGHT
BEGIN:STANDARD
TZOFFSETFROM:-0400
TZOFFSETTO:-0500
TZNAME:EST
DTSTART:20251102T060000
END:STANDARD
BEGIN:DAYLIGHT
TZOFFSETFROM:-0500
TZOFFSETTO:-0400
TZNAME:EDT
DTSTART:20260308T070000
END:DAYLIGHT
BEGIN:STANDARD
TZOFFSETFROM:-0400
TZOFFSETTO:-0500
TZNAME:EST
DTSTART:20261101T060000
END:STANDARD
END:VTIMEZONE
BEGIN:VEVENT
DTSTART;TZID=America/New_York:20250304T000000
DTEND;TZID=America/New_York:20250304T000000
DTSTAMP:20260422T033553
CREATED:20250304T165938Z
LAST-MODIFIED:20250304T170247Z
UID:61832-1741046400-1741046400@enspiremag.com
SUMMARY:Mid-Hudson Reptile Expo at the MJN Convention Center
DESCRIPTION:Dates: March 23\, 2025\nLocation: MJN – Majed J. Nesheiwat Convention Center\nAddress:  14 Civic Center Plaza\, Poughkeepsie\, NY 12601\nPhone:  (845) 454-5800\nTime: 9:00 AM to 4:00 PM\nPrice: Adults (13+) $12; Children (7-12) $6; Children 6 and under are free. College and Military 50% off admission with ID.
URL:https://enspiremag.com/event/mid-hudson-reptile-expo-at-the-mjn-convention-center/
LOCATION:Majed J. Nesheiwat Convention Center\, 14 Civic Center Plaza\, New York\, NY\, 12601\, United States
END:VEVENT
END:VCALENDAR